Workbook

Sheet PPEL Template-Landed Elements
B2: Mission Title or Description
F3: Use Total Surface Area for All Calculations | H3: Uncontrolled, ISO 8 PC, ISO 8 BC, ISO 7 PC, ISO 7 BC | I3: Initial Bioburden Calculations using total surface area and manufacturing environment (bold underline values from assay) If unknown, fill "Spores from Surface Area" only | M3: Use these Columns to track reductions made through methods of your choice (B&B analysis, Mfr. Reduction, Bakeouts, and Chemical Baths) | P3: Goal is < 500,000 | Q3: Goal is < 300,000 | R3: Goal is < 300/m2
B4: Subsystem/Component | C4: Quantity or # MLI Layers | D4: Mass per Unit [kg] | E4: Mass [kg] | F4: CBE Surface Area per unit [m^2] | G4: Total Surface Area [m^2] | H4: Manufacturing Environment pre ATLO (internal assembly) | I4: Spores from Surface Area | J4: Spores from Non-Metals | K4: Spores from Electronic Piece Parts | L4: Spore Burden (add prev 3 columns) | M4: Method | N4: Process Details if Needed | O4: Reduction Credit (log scale) | P4: Total Final Bio Burden (spores) | Q4: Surface Final Bio Burden (spores) | R4: Surface Final Spore Density (spores/m2) | S4: Notes
E5: =C5*D5 -> 0 | G5: =F5*C5 -> 0 | H5: Uncontrolled | I5: =G5*VLOOKUP(H5,'Environment Options'!$A$2:$B$6,2,FALSE) -> 0 | J5: 0 | K5: 0 | L5: =I5 + J5 + K5 -> 0 | P5: =L5/(10^O5) -> 0 | Q5: =I5/(10^O5) -> 0 | R5: =Q5/G5 -> #DIV/0!
E6: =C6*D6 -> 0 | G6: =F6*C6 -> 0 | H6: Uncontrolled | I6: =G6*VLOOKUP(H6,'Environment Options'!$A$2:$B$6,2,FALSE) -> 0 | J6: 0 | K6: 0 | L6: =I6 + J6 + K6 -> 0 | P6: =L6/(10^O6) -> 0 | Q6: =I6/(10^O6) -> 0 | R6: =Q6/G6 -> #DIV/0!
E7: =C7*D7 -> 0 | G7: =F7*C7 -> 0 | H7: Uncontrolled | I7: =G7*VLOOKUP(H7,'Environment Options'!$A$2:$B$6,2,FALSE) -> 0 | J7: 0 | K7: 0 | L7: =I7 + J7 + K7 -> 0 | P7: =L7/(10^O7) -> 0 | Q7: =I7/(10^O7) -> 0 | R7: =Q7/G7 -> #DIV/0!
E8: =C8*D8 -> 0 | G8: =F8*C8 -> 0 | H8: Uncontrolled | I8: =G8*VLOOKUP(H8,'Environment Options'!$A$2:$B$6,2,FALSE) -> 0 | J8: 0 | K8: 0 | L8: =I8 + J8 + K8 -> 0 | P8: =L8/(10^O8) -> 0 | Q8: =I8/(10^O8) -> 0 | R8: =Q8/G8 -> #DIV/0!
E9: =C9*D9 -> 0 | G9: =F9*C9 -> 0 | H9: Uncontrolled | I9: =G9*VLOOKUP(H9,'Environment Options'!$A$2:$B$6,2,FALSE) -> 0 | J9: 0 | K9: 0 | L9: =I9 + J9 + K9 -> 0 | P9: =L9/(10^O9) -> 0 | Q9: =I9/(10^O9) -> 0 | R9: =Q9/G9 -> #DIV/0!
E10: =C10*D10 -> 0 | G10: =F10*C10 -> 0 | H10: Uncontrolled | I10: =G10*VLOOKUP(H10,'Environment Options'!$A$2:$B$6,2,FALSE) -> 0 | J10: 0 | K10: 0 | L10: =I10 + J10 + K10 -> 0 | P10: =L10/(10^O10) -> 0 | Q10: =I10/(10^O10) -> 0 | R10: =Q10/G10 -> #DIV/0!
E11: =C11*D11 -> 0 | G11: =F11*C11 -> 0 | H11: Uncontrolled | I11: =G11*VLOOKUP(H11,'Environment Options'!$A$2:$B$6,2,FALSE) -> 0 | J11: 0 | K11: 0 | L11: =I11 + J11 + K11 -> 0 | P11: =L11/(10^O11) -> 0 | Q11: =I11/(10^O11) -> 0 | R11: =Q11/G11 -> #DIV/0!
E12: =C12*D12 -> 0 | G12: =F12*C12 -> 0 | H12: Uncontrolled | I12: =G12*VLOOKUP(H12,'Environment Options'!$A$2:$B$6,2,FALSE) -> 0 | J12: 0 | K12: 0 | L12: =I12 + J12 + K12 -> 0 | P12: =L12/(10^O12) -> 0 | Q12: =I12/(10^O12) -> 0 | R12: =Q12/G12 -> #DIV/0!
E13: =C13*D13 -> 0 | G13: =F13*C13 -> 0 | H13: Uncontrolled | I13: =G13*VLOOKUP(H13,'Environment Options'!$A$2:$B$6,2,FALSE) -> 0 | J13: 0 | K13: 0 | L13: =I13 + J13 + K13 -> 0 | P13: =L13/(10^O13) -> 0 | Q13: =I13/(10^O13) -> 0 | R13: =Q13/G13 -> #DIV/0!
E14: =C14*D14 -> 0 | G14: =F14*C14 -> 0 | H14: Uncontrolled | I14: =G14*VLOOKUP(H14,'Environment Options'!$A$2:$B$6,2,FALSE) -> 0 | J14: 0 | K14: 0 | L14: =I14 + J14 + K14 -> 0 | P14: =L14/(10^O14) -> 0 | Q14: =I14/(10^O14) -> 0 | R14: =Q14/G14 -> #DIV/0!
E15: =C15*D15 -> 0 | G15: =F15*C15 -> 0 | H15: Uncontrolled | I15: =G15*VLOOKUP(H15,'Environment Options'!$A$2:$B$6,2,FALSE) -> 0 | J15: 0 | K15: 0 | L15: =I15 + J15 + K15 -> 0 | P15: =L15/(10^O15) -> 0 | Q15: =I15/(10^O15) -> 0 | R15: =Q15/G15 -> #DIV/0!
E16: =C16*D16 -> 0 | G16: =F16*C16 -> 0 | H16: Uncontrolled | I16: =G16*VLOOKUP(H16,'Environment Options'!$A$2:$B$6,2,FALSE) -> 0 | J16: 0 | K16: 0 | L16: =I16 + J16 + K16 -> 0 | P16: =L16/(10^O16) -> 0 | Q16: =I16/(10^O16) -> 0 | R16: =Q16/G16 -> #DIV/0!
... E26: =C26*D26 -> 0 | G26: =F26*C26 -> 0 | H26: Uncontrolled | I26: =G26*VLOOKUP(H26,'Environment Options'!$A$2:$B$6,2,FALSE) -> 0 | J26: 0 | K26: 0 | L26: =I26 + J26 + K26 -> 0 | P26: =L26/(10^O26) -> 0 | Q26: =I26/(10^O26) -> 0 | R26: =Q26/G26 -> #DIV/0!
E27: =C27*D27 -> 0
B28: TOTAL (or average): | E28: =SUM(E5:E27) -> 0 | G28: =SUM(G5:G26) -> 0 | I28: =SUM(I5:I26) -> 0 | J28: =SUM(J5:J26) -> 0 | K28: =SUM(K5:K26) -> 0 | L28: =SUM(L5:L26) -> 0 | P28: =SUM(P5:P26) -> 0 | Q28: =SUM(Q5:Q26) -> 0 | R28: =Q28/G28 -> #DIV/0!
B29: Allowable | P29: 500000 | Q29: 300000 | R29: 300

Sheet PPEL Template-Orbiter or Flyby
B2: Mission Title or Description
F3: Use Total Surface Area for All Calculations | H3: Uncontrolled, ISO 8 PC, ISO 8 BC, ISO 7 PC, ISO 7 BC | I3: Initial Bioburden Calculations using total surface area and manufacturing environment (bold underline values from assay) If unknown, fill "Spores from Surface Area" only | M3: Use these Columns to track reductions made through methods of your choice (B&B analysis, Mfr. Reduction, Bakeouts, and Chemical Baths) | P3: Goal is < 500,000
B4: Subsystem/Component | C4: Quantity or # MLI Layers | D4: Mass per Unit [kg] | E4: Mass [kg] | F4: CBE Surface Area per unit [m^2] | G4: Total Surface Area [m^2] | H4: Manufacturing Environment pre ATLO (internal assembly) | I4: Spores from Surface Area | J4: Spores from Non-Metals | K4: Spores from Electronic Piece Parts | L4: Spore Burden (add prev 3 columns) | M4: Method | N4: Process Details if Needed | O4: Reduction Credit (log scale) | P4: Total Final Bio Burden | Q4: Notes
E5: =C5*D5 -> 0 | G5: =F5*C5 -> 0 | H5: Uncontrolled | I5: =G5*VLOOKUP(H5,'Environment Options'!$A$2:$B$6,2,FALSE) -> 0 | J5: 0 | K5: 0 | L5: =I5 + J5 + K5 -> 0 | P5: =L5/(10^O5) -> 0
E6: =C6*D6 -> 0 | G6: =F6*C6 -> 0 | H6: Uncontrolled | I6: =G6*VLOOKUP(H6,'Environment Options'!$A$2:$B$6,2,FALSE) -> 0 | J6: 0 | K6: 0 | L6: =I6 + J6 + K6 -> 0 | P6: =L6/(10^O6) -> 0
E7: =C7*D7 -> 0 | G7: =F7*C7 -> 0 | H7: Uncontrolled | I7: =G7*VLOOKUP(H7,'Environment Options'!$A$2:$B$6,2,FALSE) -> 0 | J7: 0 | K7: 0 | L7: =I7 + J7 + K7 -> 0 | P7: =L7/(10^O7) -> 0
E8: =C8*D8 -> 0 | G8: =F8*C8 -> 0 | H8: Uncontrolled | I8: =G8*VLOOKUP(H8,'Environment Options'!$A$2:$B$6,2,FALSE) -> 0 | J8: 0 | K8: 0 | L8: =I8 + J8 + K8 -> 0 | P8: =L8/(10^O8) -> 0
E9: =C9*D9 -> 0 | G9: =F9*C9 -> 0 | H9: Uncontrolled | I9: =G9*VLOOKUP(H9,'Environment Options'!$A$2:$B$6,2,FALSE) -> 0 | J9: 0 | K9: 0 | L9: =I9 + J9 + K9 -> 0 | P9: =L9/(10^O9) -> 0
E10: =C10*D10 -> 0 | G10: =F10*C10 -> 0 | H10: Uncontrolled | I10: =G10*VLOOKUP(H10,'Environment Options'!$A$2:$B$6,2,FALSE) -> 0 | J10: 0 | K10: 0 | L10: =I10 + J10 + K10 -> 0 | P10: =L10/(10^O10) -> 0
E11: =C11*D11 -> 0 | G11: =F11*C11 -> 0 | H11: Uncontrolled | I11: =G11*VLOOKUP(H11,'Environment Options'!$A$2:$B$6,2,FALSE) -> 0 | J11: 0 | K11: 0 | L11: =I11 + J11 + K11 -> 0 | P11: =L11/(10^O11) -> 0
E12: =C12*D12 -> 0 | G12: =F12*C12 -> 0 | H12: Uncontrolled | I12: =G12*VLOOKUP(H12,'Environment Options'!$A$2:$B$6,2,FALSE) -> 0 | J12: 0 | K12: 0 | L12: =I12 + J12 + K12 -> 0 | P12: =L12/(10^O12) -> 0
E13: =C13*D13 -> 0 | G13: =F13*C13 -> 0 | H13: Uncontrolled | I13: =G13*VLOOKUP(H13,'Environment Options'!$A$2:$B$6,2,FALSE) -> 0 | J13: 0 | K13: 0 | L13: =I13 + J13 + K13 -> 0 | P13: =L13/(10^O13) -> 0
E14: =C14*D14 -> 0 | G14: =F14*C14 -> 0 | H14: Uncontrolled | I14: =G14*VLOOKUP(H14,'Environment Options'!$A$2:$B$6,2,FALSE) -> 0 | J14: 0 | K14: 0 | L14: =I14 + J14 + K14 -> 0 | P14: =L14/(10^O14) -> 0
E15: =C15*D15 -> 0 | G15: =F15*C15 -> 0 | H15: Uncontrolled | I15: =G15*VLOOKUP(H15,'Environment Options'!$A$2:$B$6,2,FALSE) -> 0 | J15: 0 | K15: 0 | L15: =I15 + J15 + K15 -> 0 | P15: =L15/(10^O15) -> 0
E16: =C16*D16 -> 0 | G16: =F16*C16 -> 0 | H16: Uncontrolled | I16: =G16*VLOOKUP(H16,'Environment Options'!$A$2:$B$6,2,FALSE) -> 0 | J16: 0 | K16: 0 | L16: =I16 + J16 + K16 -> 0 | P16: =L16/(10^O16) -> 0
... E26: =C26*D26 -> 0 | G26: =F26*C26 -> 0 | H26: Uncontrolled | I26: =G26*VLOOKUP(H26,'Environment Options'!$A$2:$B$6,2,FALSE) -> 0 | J26: 0 | K26: 0 | L26: =I26 + J26 + K26 -> 0 | P26: =L26/(10^O26) -> 0
E27: =C27*D27 -> 0
B28: TOTALS: | E28: =SUM(E5:E27) -> 0 | G28: =SUM(G5:G26) -> 0 | I28: =SUM(I5:I26) -> 0 | J28: =SUM(J5:J26) -> 0 | K28: =SUM(K5:K26) -> 0 | L28: =SUM(L5:L26) -> 0 | P28: =SUM(P5:P26) -> 0
B29: Allowable | P29: 500000

Sheet Environment Options
A1: Term | B1: Spores/m2 | C1: Definition
A2: Uncontrolled | B2: 100000
A3: ISO 8 PC | B3: 10000
A4: ISO 8 BC | B4: 1000
A5: ISO 7 PC | B5: 500
A6: ISO 7 BC | B6: 50
